BEGIN:VCALENDAR
VERSION:2.0
PRODID:-//Zingerman&#039;s Roadhouse - ECPv6.15.13.1//NONSGML v1.0//EN
CALSCALE:GREGORIAN
METHOD:PUBLISH
X-WR-CALNAME:Zingerman&#039;s Roadhouse
X-ORIGINAL-URL:https://www.zingermansroadhouse.com
X-WR-CALDESC:Events for Zingerman&#039;s Roadhouse
REFRESH-INTERVAL;VALUE=DURATION:PT1H
X-Robots-Tag:noindex
X-PUBLISHED-TTL:PT1H
BEGIN:VTIMEZONE
TZID:America/Detroit
BEGIN:DAYLIGHT
TZOFFSETFROM:-0500
TZOFFSETTO:-0400
TZNAME:EDT
DTSTART:20250309T070000
END:DAYLIGHT
BEGIN:STANDARD
TZOFFSETFROM:-0400
TZOFFSETTO:-0500
TZNAME:EST
DTSTART:20251102T060000
END:STANDARD
BEGIN:DAYLIGHT
TZOFFSETFROM:-0500
TZOFFSETTO:-0400
TZNAME:EDT
DTSTART:20260308T070000
END:DAYLIGHT
BEGIN:STANDARD
TZOFFSETFROM:-0400
TZOFFSETTO:-0500
TZNAME:EST
DTSTART:20261101T060000
END:STANDARD
BEGIN:DAYLIGHT
TZOFFSETFROM:-0500
TZOFFSETTO:-0400
TZNAME:EDT
DTSTART:20270314T070000
END:DAYLIGHT
BEGIN:STANDARD
TZOFFSETFROM:-0400
TZOFFSETTO:-0500
TZNAME:EST
DTSTART:20271107T060000
END:STANDARD
END:VTIMEZONE
BEGIN:VEVENT
DTSTART;TZID=America/Detroit:20260422T183000
DTEND;TZID=America/Detroit:20260422T210000
DTSTAMP:20260421T115620
CREATED:20260318T155258Z
LAST-MODIFIED:20260417T152907Z
UID:34076-1776882600-1776891600@www.zingermansroadhouse.com
SUMMARY:Eat Good\, Do Good: A Roadhouse Earth Day Feast
DESCRIPTION:With Two Tracks Acres & ZeroWaste.Org\nWednesday\, April 22nd 6:30pm | $95\nThe Roadhouse loves Earth Day—so we are throwing a special dinner to celebrate our commitment to our community and to the planet! For this sustainable soirée\, get ready to waste not and taste lots as we welcome two very special guests—Two Tracks Acres from Grass Lake\, and ZeroWaste.Org from Ann Arbor. \n\nThis dinner is a one-night-only event\, but our dedication to sustainability is a daily deal—you might say we celebrate Earth Day every day. One of our favorite ways to do so is to minimize waste\, so we couldn’t be more excited to welcome Ann Arbor’s ZeroWaste.Org for this event! ZeroWaste.Org will talk to us about the very important work they do in our community to make a difference with environmental impact\, and we are excited to hear about what we can all do more of in our everyday lives! But that’s not all…proceeds from this event will support ZeroWaste.Org and their efforts in our community! \nWe will also savor an unforgettable meal showcasing the best of locally grown ingredients from some of our favorite land stewards\, including Two Tracks Acres in Grass Lake! Two Track grows incredible mushrooms and vegetables that have made a decidedly delicious difference with our daily offerings. The menu for this dinner offers a selection of full-flavored dishes featuring the best of our local food community\, including mushrooms from Two Tracks\, green tomatoes from We the People Opportunity Farm\, radishes from Dogstar Farm\, and more!  \nYou won’t want to miss this special evening filled with good food\, great folks\, and a whole lotta love for the land. Come help us celebrate and make a difference for our planet! \nMENU\nAppetizer\nField & Cellar Tartine (V)\nFirst of the season breakfast radishes from Dogstar Farm\, with pickled green tomatoes from We the People Opportunity Farm. Served with house made crème fraîche on toasted Bakehouse sourdough.  \nSoup\nSpring Onion Soup (V\,GF)\nA savory broth with Roadhouse Park walking onions\, spring ramps\, and Vermont Creamery cultured butter. Garnished with toasted sourdough bread crumbs and tarragon oil. \nEntrées – Choice of:\nSpring Whitefish with Parsnips (GF)\nLake Superior whitefish served over herbed parsnip purée. Topped with local pea shoots.\n \nLocal Mushrooms & Wheat Berries (V)\nTender\, succulent mushrooms from Two Track Acres with Michigan wheat berries. Drizzled with herbed cream\, then topped with roasted onions. \nDessert\nCornbread Cupcakes\nA delightful way to end the feast\, these house made treats are made with Michigan corn and topped with a bourbon caramel frosting.
URL:https://www.zingermansroadhouse.com/event/eat-good-do-good-a-roadhouse-earth-day-feast/
LOCATION:Zingerman’s Roadhouse\, 2501 Jackson Ave\, Ann Arbor\, MI\, 48103\, United States
CATEGORIES:Special Dinner
ATTACH;FMTTYPE=image/png:https://www.zingermansroadhouse.com/app/uploads/2026/03/Earth-Day-Asset-scaled.png
END:VEVENT
END:VCALENDAR