BEGIN:VCALENDAR
VERSION:2.0
PRODID:-//Zingerman&#039;s Roadhouse - ECPv6.15.13.1//NONSGML v1.0//EN
CALSCALE:GREGORIAN
METHOD:PUBLISH
X-WR-CALNAME:Zingerman&#039;s Roadhouse
X-ORIGINAL-URL:https://www.zingermansroadhouse.com
X-WR-CALDESC:Events for Zingerman&#039;s Roadhouse
REFRESH-INTERVAL;VALUE=DURATION:PT1H
X-Robots-Tag:noindex
X-PUBLISHED-TTL:PT1H
BEGIN:VTIMEZONE
TZID:America/Detroit
BEGIN:DAYLIGHT
TZOFFSETFROM:-0500
TZOFFSETTO:-0400
TZNAME:EDT
DTSTART:20220313T070000
END:DAYLIGHT
BEGIN:STANDARD
TZOFFSETFROM:-0400
TZOFFSETTO:-0500
TZNAME:EST
DTSTART:20221106T060000
END:STANDARD
BEGIN:DAYLIGHT
TZOFFSETFROM:-0500
TZOFFSETTO:-0400
TZNAME:EDT
DTSTART:20230312T070000
END:DAYLIGHT
BEGIN:STANDARD
TZOFFSETFROM:-0400
TZOFFSETTO:-0500
TZNAME:EST
DTSTART:20231105T060000
END:STANDARD
BEGIN:DAYLIGHT
TZOFFSETFROM:-0500
TZOFFSETTO:-0400
TZNAME:EDT
DTSTART:20240310T070000
END:DAYLIGHT
BEGIN:STANDARD
TZOFFSETFROM:-0400
TZOFFSETTO:-0500
TZNAME:EST
DTSTART:20241103T060000
END:STANDARD
END:VTIMEZONE
BEGIN:VEVENT
DTSTART;TZID=America/Detroit:20230313T190000
DTEND;TZID=America/Detroit:20230313T190000
DTSTAMP:20260422T112047
CREATED:20230126T000300Z
LAST-MODIFIED:20230201T163101Z
UID:18913-1678734000-1678734000@www.zingermansroadhouse.com
SUMMARY:Zingerman's Jelly Bean Jump Up Film Screening
DESCRIPTION:Zingerman’s Jelly Bean Jump Up Film Screening: “Empowered: Women Shaping The Future”\nFeaturing Marie Rose from Shoreline Wild Salmon\nState Theatre | Monday\, March 13th | 7pm | $40 / $30 for students\nThe Roadhouse is excited to partner with the State Theater for a very exclusive event. On March 13th\, please join us for a screening of “Empowered: Women Shaping the Future”\, directed and produced by Christina Rose. Empowered is a documentary series about young women making a major impact serving in leadership positions in underrepresented industries. (The filmmakers define underrepresented as those in which 15% or less of a given profession has women in key positions.)  \nEach episode features one woman—a Puerto Rican baseball player\, a Boeing 777 pilot from India\, a race car driver from Hungary—telling the story of their journey\, their hardships\, their impact\, and what they hope to achieve for future generations. \nTogether\, we’ll watch Episode 1\, “Finding Home\,” featuring Marie Rose (Christina’s cousin) from Shoreline Salmon in Alaska. Marie will be joining us for Q&A after the screening\, and she is also our special guest for our Jelly Bean Jump Up special dinner at the Roadhouse on March 14th! \nMarie Rose is a fisher woman and co-founder of the company Shoreline Wild Salmon\, which distributes wild caught Alaskan salmon throughout the United States. Originally from Battle Creek Michigan\, Marie early on knew she had a trait of making a difference in the world. But it wasn’t the spirit of adventure that drove her to leave\, rather an abusive relationship that left its scars. While getting a look into Marie’s work as a fisher woman and how she and her two business partners\, Joe and Keith\, catch and distribute their salmon within Michigan\, we learn of Marie’s personal journey of finding her new home and coming to terms with past demons.  \nThis is an episode that touches on themes of domestic violence\, resilience\, and adventure on a journey of sacrifice\, and determination\, which also happens to be similar to the journey of the salmon. Told she would never achieve success\, Marie is a force of nature\, as she grows into a successful businesswoman and a caring person interested only in the welfare of others.  \nSee details for our Jelly Bean Jump Up Special Dinner Event \nOrder Tickets at State Theater ?\nDonate to SafeHouse\nSafeHouse Center’s mission is to provide safety\, support\, advocacy and resources for survivors of sexual assault and intimate partner domestic violence and their children\, AND to work relentlessly to change the systems and attitudes that allow this abuse to continue. \n\n\n	\n		Jelly Bean Jump Up – SafeHouse Donation\n		\n	\n								\n	\n		\n\n	\n				Jelly Bean Jump Up Donation Levels	\n				\n								\n						\n												Jump Start - $100					\n										\n						\n												Trampoline Jump - $200					\n										\n						\n												Bounce House - $500					\n										\n						\n												Pole Vault - $750					\n										\n						\n												Rocket Launchpad - $1\,000					\n								\n			\n\n		\n\n	\n	\n	Donate\n	\n	\n\n 
URL:https://www.zingermansroadhouse.com/event/8th-annual-jelly-bean-jump-up-film-screening/
LOCATION:State Theatre\, 233 S State St\, Ann Arbor\, 48104\, United States
CATEGORIES:Special Event
ATTACH;FMTTYPE=image/jpeg:https://www.zingermansroadhouse.com/app/uploads/2023/01/Zingerman_1080x450-e1675210778447.jpg
ORGANIZER;CN="Zingerman's Roadhouse":MAILTO:roadhouse@zingermans.com
END:VEVENT
END:VCALENDAR